BEGIN:VCALENDAR
VERSION:2.0
PRODID:-//RIPESS Europe - ECPv6.15.20//NONSGML v1.0//EN
CALSCALE:GREGORIAN
METHOD:PUBLISH
X-WR-CALNAME:RIPESS Europe
X-ORIGINAL-URL:https://ripess.eu/fr/
X-WR-CALDESC:Évènements pour RIPESS Europe
REFRESH-INTERVAL;VALUE=DURATION:PT1H
X-Robots-Tag:noindex
X-PUBLISHED-TTL:PT1H
BEGIN:VTIMEZONE
TZID:Europe/Paris
BEGIN:DAYLIGHT
TZOFFSETFROM:+0100
TZOFFSETTO:+0200
TZNAME:CEST
DTSTART:20220327T010000
END:DAYLIGHT
BEGIN:STANDARD
TZOFFSETFROM:+0200
TZOFFSETTO:+0100
TZNAME:CET
DTSTART:20221030T010000
END:STANDARD
BEGIN:DAYLIGHT
TZOFFSETFROM:+0100
TZOFFSETTO:+0200
TZNAME:CEST
DTSTART:20230326T010000
END:DAYLIGHT
BEGIN:STANDARD
TZOFFSETFROM:+0200
TZOFFSETTO:+0100
TZNAME:CET
DTSTART:20231029T010000
END:STANDARD
BEGIN:DAYLIGHT
TZOFFSETFROM:+0100
TZOFFSETTO:+0200
TZNAME:CEST
DTSTART:20240331T010000
END:DAYLIGHT
BEGIN:STANDARD
TZOFFSETFROM:+0200
TZOFFSETTO:+0100
TZNAME:CET
DTSTART:20241027T010000
END:STANDARD
END:VTIMEZONE
BEGIN:VEVENT
DTSTART;VALUE=DATE:20230302
DTEND;VALUE=DATE:20230601
DTSTAMP:20260421T064007
CREATED:20230302T112806Z
LAST-MODIFIED:20230302T112827Z
UID:10000043-1677715200-1685577599@ripess.eu
SUMMARY:3rd International Conference - Social and Solidarity Economy and the Commons - Decolonizing the Solidarity Economy and Commons:   Enacting the “Pluriverse”
DESCRIPTION:3rd International Conference \nSocial and Solidarity Economy and the Commons \nDecolonizing the Solidarity Economy and Commons: \nEnacting the “Pluriverse” \nVenue: Instituto Universitário de Lisboa (ISCTE-IUL)\, Lisbon\, Portugal \nDate: 8th-10th November 2023 (Presential) \nOrganisers: Centre for International Studies (CEI-IUL) – Instituto Universitário de Lisboa (ISCTE-IUL) (Portugal); Centre for Social Studies (CES) – University of Coimbra (Portugal); ITES/UFAL -Incubator of Solidarity Economy at the Federal University of Alagoas (Brazil); Institute for Social Justice\, York St John University (UK); Institute for Ecological Economics – Vienna University of Economics and Business (Austria) \n  \nCALL FOR CONTRIBUTIONS \nThe main theme for the 2023 edition of the international conference “Social and Solidarity Economy and the Commons” is the emergence of a “pluriverse” in the fields of solidarity economy and the commons. This results from the aggregation of diverse epistemologies\, narratives\, and strategies for social transformation that criticise and deconstruct the downsides of modernity as a social project. For Mignolo and Escobar (2010)\, these include a “disembeddedness”\, resulting from a “marginalization of place (the here and now of social action) in the definition of social life” (p. 36). It also includes a “domination and disenchantment that came about with secularization and the predominance of instrumental reason to the normalization of life and the disciplining of populations” to “the extreme economization and technification of the world” (p. 36-7). \nWe invite researchers and practitioners to submit proposals for contributions to the conference. We aim to promote interdisciplinary and transdisciplinary perspectives at both theoretical\, conceptual and methodological levels. Submissions might be based on formal research or on concrete activist\, economic or public policy initiatives. \nThe conference is structured around six thematic fields: \n\nCriticisms of modernity\, post-material worldviews and their contribution to social movements and initiatives promoting solidarity economy and the commons;\nIndigenous epistemologies and popular knowledges (epistemologies of traditional peoples and communities);\nOngoing tensions between transformation and cooptation in solidarity economy and commons-based initiatives and movements (including cultish or other forms of authoritarian dynamics based on charisma\, spiritual/ideological creed or the spread of disinformation\, including those of ethnonationalist\, backlash social movements\, reactionary and anti-democratic movements);\nContributions of solidarity economy\, commons and community-led initiatives to emancipatory movements\, deepening democracy as well as civil society-led strategies of “soft power” in international\, regional and local relations;\nContributions of knowledge\, technologies and organisational forms\, developed within solidarity economy\, commons and community-led initiatives\, to biopolitical forms of social control (i.e. “technologies of the self”)\, as well as state-led strategies of “soft power” in international\, regional and local relations.\nStructural Inequalities and the challenges faced by minorities and other disadvantaged groups in the pursuit of environmental and social justice through solidarity economy and commons-based initiatives and movements. These include inequalities and challenges enhanced by the “green gentrification” that is often unintentionally caused by the presence of such initiatives\, as well as state-led urban and rural planning strategies for sustainability based on commons and commoning.\n\nAttention: For further information on each thematic field\, please consult the annexed Conference Proposal. \nSession on Research and Methods Design\nWe strongly encourage the submission of paper proposals by Ph.D. students on the methodological and ethical dimensions of research within these six fields of inquiry\, with the purpose of organising a workshop on this topic for early career scholars\, which will take place during the conference. \nWe will post regular updates about the organisation of this conference on the event’s webpage (https://ssecommons.cei.iscte-iul.pt )\, as well as send them by e-mail and through the social media accounts of CEI-IUL (Facebook and Twitter). Any questions regarding organisation of the conference or participation can be sent to  ssecommons.cei@iscte-iul.pt. \nProposal Submission Guidelines \nWe welcome the submission of the following type of proposals: \n\npaper abstracts (research papers or experience reports by practitioners or activists);\nbook presentation proposals on topics relevant to the five thematic fields of the conference.\nsession proposals containing the name of presenters\, as well as the title and complete abstract of each presentation;\n\nAll submitted proposals must have a maximum length of 800 words (including any references) and indicate which thematic field/s of the conference they address\, along with five keywords. They can be submitted in English\, French\, Portuguese or Spanish. However\, the language of presentation shall be English. They should include: \nIn the case of an academic paper or research proposals by Ph.D. students: \n\na) Title;\nb) Thematic field (one of the five proposed by the conference);\nc) Extended abstract referring to the theoretical and methodological approach\, the main argument\, and a brief summary of conclusions/implications for research\, activism or policy-making.\nd) Main references\n\nIn the case of an experience report by practitioners or activists: \n\na) Title;\nb) Thematic field (one of the five proposed by the conference);\nc) Abstract containing: a short description of the experience; a brief context analysis; innovation in political\, environmental or societal terms; main challenges; future trends.\nd) Main references\n\nIn the case of a book presentation proposal: \n\na) Title;\nb) Thematic field (one of the five proposed by the conference);\nc) Extended abstract referring to the theoretical and methodological approach\, the main argument\, and a brief summary of conclusions/implications for research\, activism or policy-making.\n\nSession proposals should include: \n\na) Title of the panel;\nb) Thematic field (one of the five proposed by the conference)\, along with five keywords;\nc) A brief (up to 300 words) statement summarising the rationale for the panel.\nd) Individual abstracts for each presentation (maximum 800 words each)\, referring to the theoretical and methodological approach\, the main argument\, a brief summary of conclusions/implications for research\, activism or policy-making and main references.\n\nIn your proposal\, please indicate whether you would like to submit a full paper for online publication\, with peer-review and in open-source format\, in a website that the conference organisers will create for that purpose. The papers will be published during the first semester of 2024. \nPlease submit proposals by email to  ssecommons.cei@iscte-iul.pt .  \nImportant dates  \nDeadline for submission of proposals – May 31st 2023 \nNotification of contributors – June 30th \nDeadline for registration (conference presenters) – October 6th \nPublication of final program – October 15th \nDeadline for registration (non-presenters) – October 25th \nBeginning of the conference – November 8th \nSubmission of full paper for peer review and publication: December 15th \nConference registration \nSite: https://ssecommons.cei.iscte-iul.pt/  \nProfessors/lecturers\, researchers and other professionals – € 175\, 00 \nStudents (Proof of enrolment in a higher education program required) – € 75\, 00 \nRegistration is FREE for students of ISCTE-IUL\, CES-University of Coimbra\, UFAL and York St John University. \nSteering Committee: \nAna Margarida Esteves (CEI-IUL\, ISCTE-IUL) \nLeonardo Leal (CEI-IUL; Universidade Federal de Alagoas– UFAL) \nLuciane Lucas dos Santos (CES U Coimbra) \nTom Henfrey (Schumacher Institute\, UK) \nMaria Fernandes-Jesus (York St John University\, UK) \nRoman Hausmann (Institute for Ecological Economics – Vienna University of Economics and Business\, Austria)
URL:https://ripess.eu/fr/event/3rd-international-conference-social-and-solidarity-economy-and-the-commons-decolonizing-the-solidarity-economy-and-commons-enacting-the-pluriverse/
LOCATION:Instituto Universitário de Lisboa (ISCTE-IUL)\, Lisbon\, Portugal\, Portugal
ATTACH;FMTTYPE=image/png:https://ripess.eu/wp-content/uploads/sites/4/2023/03/SSE_and_the_commons_conference.png
END:VEVENT
BEGIN:VEVENT
DTSTART;VALUE=DATE:20230401
DTEND;VALUE=DATE:20230801
DTSTAMP:20260421T064007
CREATED:20230510T094959Z
LAST-MODIFIED:20230510T095150Z
UID:10000091-1680307200-1690847999@ripess.eu
SUMMARY:TOUR DE FRANCE DES TERRITOIRES SOLIDAIRES EN COMMUN
DESCRIPTION:A l’occasion de la parution aux éditions de l’Atelier de l’ouvrage d’Hervé Defalvard\, La société du commun. Pour une écologie politique et culturelle des territoires\, un tour de France et d’ailleurs est organisé en neuf étapes entre avril et juillet 2023. \nChaque étape est conçue à partir d’expériences locales alternatives\, à la croisée de l’économie sociale et solidaire et des communs\, auxquelles le livre se réfère comme autant de points de départ et de leviers pour aller vers la société du commun. Celle-ci dessine un horizon qui assume progressivement sa rupture avec le mode capitaliste de production\, d’échange et de consommation au bénéfice de rapports de production et d’usage\, de reproduction sociale et d’engendrement de la vie à même d’assurer sur les territoires à chaque être vivant\, humain et autre qu’humain\, la plus-value de vie qui lui convient. \nÁ partir des entrées alimentation (à Gap et à Bucarest)\, culture (à Bordeaux)\, emploi (à Thiers)\, formation (à Saint Etienne)\, luttes sociales (à Bologne)\, territoire (à Amiens)\, énergie (à Nantes) ou R&D (à Paris)\, les acteurs locaux impliqués dans une alternative ou une autre sont invités à se situer par rapport au projet du livre à l’aide d’une application créée spécialement puis\, au travers d’ateliers\, à imaginer et partager localement les possibilités de nouvelles actions communes dans le but de faire progresser la nouvelle culture des communs.\nA la fin de ce Tour de France et d’ailleurs sera disponible sur le site des éditions de l’Atelier\, le bilan tiré de chaque étape en matière d’alternatives locales quant à leur contenu plus ou moins intégral\, plus ou moins translocal. \nTour de France COMMUNS
URL:https://ripess.eu/fr/event/tour-de-france-des-territoires-solidaires-en-commun/
END:VEVENT
BEGIN:VEVENT
DTSTART;VALUE=DATE:20230404
DTEND;VALUE=DATE:20230617
DTSTAMP:20260421T064007
CREATED:20230404T154926Z
LAST-MODIFIED:20230404T154926Z
UID:10000073-1680566400-1686959999@ripess.eu
SUMMARY:Appel à communications : Symposium international sur le commerce équitable et le développement durable
DESCRIPTION:Symposium international FTSD 2023\n          \n\nLe symposium international sur le commerce équitable et le développement durable (FTSD) est un événement scientifique qui réunit régulièrement des chercheurs et des praticiens intéressés et travaillant sur différents aspects du commerce équitable et du développement durable. \nIl offre un forum pour l’échange de pratiques\, d’outils\, de modèles et d’expériences pour faire avancer la recherche et ouvrir de nouvelles perspectives. \nPour sa 3ème édition\, le Symposium FTSD 2023 aura lieu à l’Ecole Supérieure de Technologie de l’Université Ibn Zohr – Agadir – Maroc \n\n              Sujets du symposium\n            \nThème 1 : Valorisation des territoires et protection de l’environnement\nThème 2 : RSE et gouvernance\nThème 3 : Résilience et innovation\nThème 4 : Economie sociale et solidaire\nThème 5 : Commercialisation et commercialisation\nThème 6 : Gestion et stratégie des organisations de commerce équitable (OCE)\nThème 7 : Ethique\, territoires et normalisation durable\n\nThème 8 : Entrepreneuriat & Finance Durable
URL:https://ripess.eu/fr/event/appel-a-communications-symposium-international-sur-le-commerce-equitable-et-le-developpement-durable/
LOCATION:Agadir\, MOROCCO
ATTACH;FMTTYPE=image/jpeg:https://ripess.eu/wp-content/uploads/sites/4/2023/04/FTSD-INTERNATIONAL-SYMPOSIUM-2023.jpg
END:VEVENT
BEGIN:VEVENT
DTSTART;VALUE=DATE:20230426
DTEND;VALUE=DATE:20230629
DTSTAMP:20260421T064007
CREATED:20230427T102149Z
LAST-MODIFIED:20230427T102149Z
UID:10000088-1682467200-1687996799@ripess.eu
SUMMARY:Série de séminaires | Droit au logement. Luttes et litiges stratégiques sur quatre continents
DESCRIPTION:Série de séminaires | Droit au logement. Luttes stratégiques et conflits sur quatre continents\nAvril – Juin 2023\nSalle de séminaire 1\, Département SPGI\, via del Santo 28\, Padoue – Italie & en ligne \nDans le cadre du Master en droits de l’homme et gouvernance multi-niveaux (HRG) du Département des sciences politiques\, du droit et des études internationales de l’Université de Padoue (SPGI)\, la série de séminaires Droit au logement. Les luttes et les différends stratégiques sur quatre continents auront lieu du 26 avril au 28 juin 2023. Les séminaires\, destinés aux étudiants du cours de droit international des droits de l’homme (Prof. Paolo De Stefani)\, sont également ouverts en ligne à tous ceux qui s’intéressent à la défense du droit au logement. \nLe cycle\, en collaboration avec l’Alliance internationale des habitants\, comprend des webinaires sur les questions de logement du point de vue des droits de l’homme\, organisés par des coordinateurs et des experts de l’AIH d’Espagne\, d’Argentine\, de Tunisie\, du Brésil et d’Inde\, ainsi que des ateliers\, en présence\, visant à approfondir le rôle du Comité des droits économiques\, sociaux et culturels des Nations Unies dans la défense du droit au logement. \nLes réunions ont toujours lieu de 15h00 à 16h30. CEST le mercredi :\nSalle de séminaire 1\, Département SPGI\, via del Santo 28\, Padoue (capacité maximale de 20 places).\nEn ligne\, via la plateforme Zoom https://unipd.zoom.us/j/89673210654 \nInterprètes : IT/EN/ES/FR/PT \nPROGRAMME DU SÉMINAIRE \nMercredi 26.04.2023 – 15:00 – 16:30 CEST (cliquez pour l’heure locale) \nUtiliser les procédures du droit international des droits humains pour défendre le droit au logement\nCesare Ottolini\, Alliance Internationale des Habitants (AIH)\, Coordinateur mondial\, Italie \nmercredi 03.05.2023 – 15:00 – 16:30 CEST (cliquez pour l’heure locale) \nDroit au logement et zéro expulsion. Communications au Comité des droits économiques\, sociaux et culturels\nPaco Morote\, Plataforma Afectados por la Hipoteca (PAH)\, Espagne \nMercredi 17.05.2023 – 15:00 – 16:30 CEST (cliquez pour l’heure locale) \nPDI\, bidonvilles\, COVID-19\, normes internationales relatives aux droits de l’homme et droit au logement en Inde\nVarghese Theckanath\, Directeur\, Montfort Social Institute (MSI)\, Hyderabad\, Inde \nMercredi 31.05.2023 – 15:00 – 16:30 CEST (cliquez pour l’heure locale) \nDroit au logement et à la terre : le cas de l’Argentine\nCristina Reynals\, Alliance internationale des habitants Cono Sur\, Coordinatrice\, Université de Buenos Aires\, Argentine \nMercredi 14.06.2023 – 15:00 – 16:30 CEST (cliquez pour l’heure locale) \nLe droit au logement dans la région méditerranéenne\nSoha Ben Slama\, AIH et Tribunal International des Expulsions (ITE)\, Coordinatrice\, Tunisie \nmercredi 28.06.2023 – 15:00 – 16:30 CEST (cliquez pour l’heure locale) \nDespejos Zero’\, droit au logement et démocratie au Brésil\nGetulio Vargas Jr\, Bartiria Lima da Costa\, Confederaçao Nacional Moradores (CONAM) et Campanha Despejos Zero\, Brésil \nSÉRIES SPÉCIALES \nMercredi 10.05.2023 et mercredi 24.05.2023 \nCréation d’un groupe de travail pour le droit au logement au sein du HRG \nCesare Ottolini\, Paolo De Stefani \nResponsable scientifique : Paolo de Stefani\, Université de Padoue. \nInformation : Série de séminaires sur le droit au logement. Luttes et conflits stratégiques sur quatre continents \nInfo \nFB Assemblée Mondiale des Habitants \nFB World Zero Expulsions – Cero Desalojos – Zéro Expulsions \nwww.habitants.org \nmedia.iai@habitants.org
URL:https://ripess.eu/fr/event/serie-de-seminaires-droit-au-logement-luttes-et-litiges-strategiques-sur-quatre-continents/
ATTACH;FMTTYPE=image/jpeg:https://ripess.eu/wp-content/uploads/sites/4/2023/04/housing-rights-events-agenda.jpg
END:VEVENT
BEGIN:VEVENT
DTSTART;VALUE=DATE:20230523
DTEND;VALUE=DATE:20230622
DTSTAMP:20260421T064007
CREATED:20230523T121928Z
LAST-MODIFIED:20230523T121928Z
UID:10000096-1684800000-1687391999@ripess.eu
SUMMARY:Journée mondiale de la localisation
DESCRIPTION:Un mois de célébrations locales dans le monde entier\, chaque année.\nLa Journée mondiale de la localisation\, le 21 juin\, célèbre le mouvement mondial de localisation\, non seulement le jour même\, mais pendant tout le mois de juin. En 2023\, pour la quatrième année consécutive\, des personnes du monde entier se réuniront pour explorer le pouvoir de la localisation et honorer les nombreuses initiatives\, anciennes et nouvelles\, qui favorisent des économies écologiques\, des communautés prospères et des systèmes alimentaires locaux sains. Restez à l’écoute pour les mises à jour 2023 et parcourez les événements passés ci-dessous. \nLa Journée mondiale de la localisation est une célébration annuelle du mouvement mondial de localisation. \nC’est plus qu’une simple journée : c’est une invitation à voir le monde d’une nouvelle manière. Prendre conscience du lieu en participant à des échanges économiques locaux à petite échelle. Créer un changement local dans le cadre d’un mouvement mondial pour des communautés et des économies plus saines.
URL:https://ripess.eu/fr/event/journee-mondiale-de-la-localisation/
LOCATION:WORLDWIDE
ATTACH;FMTTYPE=image/jpeg:https://ripess.eu/wp-content/uploads/sites/4/2023/05/World-Localization-Day-June-2023.jpg
END:VEVENT
BEGIN:VEVENT
DTSTART;VALUE=DATE:20230531
DTEND;VALUE=DATE:20230603
DTSTAMP:20260421T064007
CREATED:20230510T100447Z
LAST-MODIFIED:20230510T100951Z
UID:10000092-1685491200-1685750399@ripess.eu
SUMMARY:Innovations citoyennes\, solidarités et transformations sociétales\, Redéfinir l’émancipation face aux défis écologiques\, sociaux et démocratiques
DESCRIPTION:31 mai – 19h\n\nÉconomie solidaire\, gestion sociale et participation émancipatrice \nL’apport des ouvertures internationales : l’exemple du Brésil \nComment le dialogue international contribue à questionner les approches sociologiques et historiques nationales et comment ce même dialogue autorise l’introduction de nouveaux concepts comme celui de gestion sociale.  \n\n1er juin – 9h30\n\nEntre rapports de pouvoir et émancipations : \nrepenser la complexité du monde culturel associatif \nJournée organisée par Opale en partenariat avec l’IRIS – Institut de recherche interdisciplinaire sur les enjeux sociaux \nOuvrir un espace de réflexion et de circulation des savoirs qualitatifs sur les associations culturelles employeuses et sur la diversité des enjeux qui les traversent en mettant en résonance et en dialogue savoirs expérienciels et travaux de recherche. \n\n2 juin – 10h\n\nVers de nouveaux rapports entre science\, action et démocratie \nLa Fabrique de l’émancipation \nDébat à partir de diverses lectures de cet ouvrage qui plaide pour de nouveaux liens entre science et action dans un moment où\, par-delà les dangers\, la démocratie se réinvente déjà. \nINSCRIPTIONS 31 mai et 2 juin \nINSCRIPTIONS 1er juin \nPROGRAMME COMPLET 
URL:https://ripess.eu/fr/event/innovations-citoyennes-solidarites-et-transformations-societales-redefinir-lemancipation-face-aux-defis-ecologiques-sociaux-et-democratiques/
LOCATION:Cnam\, 292 Rue Saint-Martin\, Paris\, 75003\, France
END:VEVENT
END:VCALENDAR