BEGIN:VCALENDAR
VERSION:2.0
PRODID:-//RIPESS Europe - ECPv6.15.20//NONSGML v1.0//EN
CALSCALE:GREGORIAN
METHOD:PUBLISH
X-ORIGINAL-URL:https://ripess.eu/fr/
X-WR-CALDESC:Évènements pour RIPESS Europe
REFRESH-INTERVAL;VALUE=DURATION:PT1H
X-Robots-Tag:noindex
X-PUBLISHED-TTL:PT1H
BEGIN:VTIMEZONE
TZID:Europe/Paris
BEGIN:DAYLIGHT
TZOFFSETFROM:+0100
TZOFFSETTO:+0200
TZNAME:CEST
DTSTART:20240331T010000
END:DAYLIGHT
BEGIN:STANDARD
TZOFFSETFROM:+0200
TZOFFSETTO:+0100
TZNAME:CET
DTSTART:20241027T010000
END:STANDARD
BEGIN:DAYLIGHT
TZOFFSETFROM:+0100
TZOFFSETTO:+0200
TZNAME:CEST
DTSTART:20250330T010000
END:DAYLIGHT
BEGIN:STANDARD
TZOFFSETFROM:+0200
TZOFFSETTO:+0100
TZNAME:CET
DTSTART:20251026T010000
END:STANDARD
BEGIN:DAYLIGHT
TZOFFSETFROM:+0100
TZOFFSETTO:+0200
TZNAME:CEST
DTSTART:20260329T010000
END:DAYLIGHT
BEGIN:STANDARD
TZOFFSETFROM:+0200
TZOFFSETTO:+0100
TZNAME:CET
DTSTART:20261025T010000
END:STANDARD
END:VTIMEZONE
BEGIN:VEVENT
DTSTART;TZID=Europe/Paris:20250930T130000
DTEND;TZID=Europe/Paris:20250930T170000
DTSTAMP:20260421T160638
CREATED:20250929T124149Z
LAST-MODIFIED:20250929T124149Z
UID:10000236-1759237200-1759251600@ripess.eu
SUMMARY:Webinaire intercontinental du SSE Youth Hub
DESCRIPTION:Connecter les jeunes défenseurs de l’ESS de tous les continents ! \n️ Interprétation FR ⇄ EN ⇄ ES \nLien zoom : https://us06web.zoom.us/j/84922584800?pwd=lsjTjNx6mJsvRGafp8z3CIV8mDnWno.1 \nCe webinaire sera une étape clé pour découvrir et partager les documents de plaidoyer portés par des jeunes des cinq continents (Afrique\, Amérique latine\, Amérique du Nord\, Asie\, Europe) dans le cadre du Forum mondial de l’économie sociale et solidaire – Bordeaux GSEF 2025. \nVous y trouverez : \n✔ Un aperçu des activités prévues lors du Forum Bordeaux GSEF 2025\, du programme et des lieux de rassemblement.\n✔ Présentation des documents de plaidoyer continentaux et de leurs priorités\n✔ Un espace de dialogue reliant des jeunes du monde entier\n✔ Une étape clé sur la voie de la Déclaration internationale de la jeunesse
URL:https://ripess.eu/fr/event/webinaire-intercontinental-du-sse-youth-hub/
LOCATION:online
ATTACH;FMTTYPE=image/jpeg:https://ripess.eu/wp-content/uploads/sites/4/2025/09/Badge-GSEF-SSE-Youth-Hub_1.jpg
END:VEVENT
END:VCALENDAR