BEGIN:VCALENDAR
VERSION:2.0
PRODID:-//RIPESS Europe - ECPv6.15.20//NONSGML v1.0//EN
CALSCALE:GREGORIAN
METHOD:PUBLISH
X-WR-CALNAME:RIPESS Europe
X-ORIGINAL-URL:https://ripess.eu/fr/
X-WR-CALDESC:Évènements pour RIPESS Europe
REFRESH-INTERVAL;VALUE=DURATION:PT1H
X-Robots-Tag:noindex
X-PUBLISHED-TTL:PT1H
BEGIN:VTIMEZONE
TZID:Europe/Paris
BEGIN:DAYLIGHT
TZOFFSETFROM:+0100
TZOFFSETTO:+0200
TZNAME:CEST
DTSTART:20220327T010000
END:DAYLIGHT
BEGIN:STANDARD
TZOFFSETFROM:+0200
TZOFFSETTO:+0100
TZNAME:CET
DTSTART:20221030T010000
END:STANDARD
BEGIN:DAYLIGHT
TZOFFSETFROM:+0100
TZOFFSETTO:+0200
TZNAME:CEST
DTSTART:20230326T010000
END:DAYLIGHT
BEGIN:STANDARD
TZOFFSETFROM:+0200
TZOFFSETTO:+0100
TZNAME:CET
DTSTART:20231029T010000
END:STANDARD
BEGIN:DAYLIGHT
TZOFFSETFROM:+0100
TZOFFSETTO:+0200
TZNAME:CEST
DTSTART:20240331T010000
END:DAYLIGHT
BEGIN:STANDARD
TZOFFSETFROM:+0200
TZOFFSETTO:+0100
TZNAME:CET
DTSTART:20241027T010000
END:STANDARD
END:VTIMEZONE
BEGIN:VEVENT
DTSTART;VALUE=DATE:20230401
DTEND;VALUE=DATE:20230801
DTSTAMP:20260421T124555
CREATED:20230510T094959Z
LAST-MODIFIED:20230510T095150Z
UID:10000091-1680307200-1690847999@ripess.eu
SUMMARY:TOUR DE FRANCE DES TERRITOIRES SOLIDAIRES EN COMMUN
DESCRIPTION:A l’occasion de la parution aux éditions de l’Atelier de l’ouvrage d’Hervé Defalvard\, La société du commun. Pour une écologie politique et culturelle des territoires\, un tour de France et d’ailleurs est organisé en neuf étapes entre avril et juillet 2023. \nChaque étape est conçue à partir d’expériences locales alternatives\, à la croisée de l’économie sociale et solidaire et des communs\, auxquelles le livre se réfère comme autant de points de départ et de leviers pour aller vers la société du commun. Celle-ci dessine un horizon qui assume progressivement sa rupture avec le mode capitaliste de production\, d’échange et de consommation au bénéfice de rapports de production et d’usage\, de reproduction sociale et d’engendrement de la vie à même d’assurer sur les territoires à chaque être vivant\, humain et autre qu’humain\, la plus-value de vie qui lui convient. \nÁ partir des entrées alimentation (à Gap et à Bucarest)\, culture (à Bordeaux)\, emploi (à Thiers)\, formation (à Saint Etienne)\, luttes sociales (à Bologne)\, territoire (à Amiens)\, énergie (à Nantes) ou R&D (à Paris)\, les acteurs locaux impliqués dans une alternative ou une autre sont invités à se situer par rapport au projet du livre à l’aide d’une application créée spécialement puis\, au travers d’ateliers\, à imaginer et partager localement les possibilités de nouvelles actions communes dans le but de faire progresser la nouvelle culture des communs.\nA la fin de ce Tour de France et d’ailleurs sera disponible sur le site des éditions de l’Atelier\, le bilan tiré de chaque étape en matière d’alternatives locales quant à leur contenu plus ou moins intégral\, plus ou moins translocal. \nTour de France COMMUNS
URL:https://ripess.eu/fr/event/tour-de-france-des-territoires-solidaires-en-commun/
END:VEVENT
BEGIN:VEVENT
DTSTART;VALUE=DATE:20230404
DTEND;VALUE=DATE:20230617
DTSTAMP:20260421T124555
CREATED:20230404T154926Z
LAST-MODIFIED:20230404T154926Z
UID:10000073-1680566400-1686959999@ripess.eu
SUMMARY:Appel à communications : Symposium international sur le commerce équitable et le développement durable
DESCRIPTION:Symposium international FTSD 2023\n          \n\nLe symposium international sur le commerce équitable et le développement durable (FTSD) est un événement scientifique qui réunit régulièrement des chercheurs et des praticiens intéressés et travaillant sur différents aspects du commerce équitable et du développement durable. \nIl offre un forum pour l’échange de pratiques\, d’outils\, de modèles et d’expériences pour faire avancer la recherche et ouvrir de nouvelles perspectives. \nPour sa 3ème édition\, le Symposium FTSD 2023 aura lieu à l’Ecole Supérieure de Technologie de l’Université Ibn Zohr – Agadir – Maroc \n\n              Sujets du symposium\n            \nThème 1 : Valorisation des territoires et protection de l’environnement\nThème 2 : RSE et gouvernance\nThème 3 : Résilience et innovation\nThème 4 : Economie sociale et solidaire\nThème 5 : Commercialisation et commercialisation\nThème 6 : Gestion et stratégie des organisations de commerce équitable (OCE)\nThème 7 : Ethique\, territoires et normalisation durable\n\nThème 8 : Entrepreneuriat & Finance Durable
URL:https://ripess.eu/fr/event/appel-a-communications-symposium-international-sur-le-commerce-equitable-et-le-developpement-durable/
LOCATION:Agadir\, MOROCCO
ATTACH;FMTTYPE=image/jpeg:https://ripess.eu/wp-content/uploads/sites/4/2023/04/FTSD-INTERNATIONAL-SYMPOSIUM-2023.jpg
END:VEVENT
BEGIN:VEVENT
DTSTART;VALUE=DATE:20230426
DTEND;VALUE=DATE:20230629
DTSTAMP:20260421T124555
CREATED:20230427T102149Z
LAST-MODIFIED:20230427T102149Z
UID:10000088-1682467200-1687996799@ripess.eu
SUMMARY:Série de séminaires | Droit au logement. Luttes et litiges stratégiques sur quatre continents
DESCRIPTION:Série de séminaires | Droit au logement. Luttes stratégiques et conflits sur quatre continents\nAvril – Juin 2023\nSalle de séminaire 1\, Département SPGI\, via del Santo 28\, Padoue – Italie & en ligne \nDans le cadre du Master en droits de l’homme et gouvernance multi-niveaux (HRG) du Département des sciences politiques\, du droit et des études internationales de l’Université de Padoue (SPGI)\, la série de séminaires Droit au logement. Les luttes et les différends stratégiques sur quatre continents auront lieu du 26 avril au 28 juin 2023. Les séminaires\, destinés aux étudiants du cours de droit international des droits de l’homme (Prof. Paolo De Stefani)\, sont également ouverts en ligne à tous ceux qui s’intéressent à la défense du droit au logement. \nLe cycle\, en collaboration avec l’Alliance internationale des habitants\, comprend des webinaires sur les questions de logement du point de vue des droits de l’homme\, organisés par des coordinateurs et des experts de l’AIH d’Espagne\, d’Argentine\, de Tunisie\, du Brésil et d’Inde\, ainsi que des ateliers\, en présence\, visant à approfondir le rôle du Comité des droits économiques\, sociaux et culturels des Nations Unies dans la défense du droit au logement. \nLes réunions ont toujours lieu de 15h00 à 16h30. CEST le mercredi :\nSalle de séminaire 1\, Département SPGI\, via del Santo 28\, Padoue (capacité maximale de 20 places).\nEn ligne\, via la plateforme Zoom https://unipd.zoom.us/j/89673210654 \nInterprètes : IT/EN/ES/FR/PT \nPROGRAMME DU SÉMINAIRE \nMercredi 26.04.2023 – 15:00 – 16:30 CEST (cliquez pour l’heure locale) \nUtiliser les procédures du droit international des droits humains pour défendre le droit au logement\nCesare Ottolini\, Alliance Internationale des Habitants (AIH)\, Coordinateur mondial\, Italie \nmercredi 03.05.2023 – 15:00 – 16:30 CEST (cliquez pour l’heure locale) \nDroit au logement et zéro expulsion. Communications au Comité des droits économiques\, sociaux et culturels\nPaco Morote\, Plataforma Afectados por la Hipoteca (PAH)\, Espagne \nMercredi 17.05.2023 – 15:00 – 16:30 CEST (cliquez pour l’heure locale) \nPDI\, bidonvilles\, COVID-19\, normes internationales relatives aux droits de l’homme et droit au logement en Inde\nVarghese Theckanath\, Directeur\, Montfort Social Institute (MSI)\, Hyderabad\, Inde \nMercredi 31.05.2023 – 15:00 – 16:30 CEST (cliquez pour l’heure locale) \nDroit au logement et à la terre : le cas de l’Argentine\nCristina Reynals\, Alliance internationale des habitants Cono Sur\, Coordinatrice\, Université de Buenos Aires\, Argentine \nMercredi 14.06.2023 – 15:00 – 16:30 CEST (cliquez pour l’heure locale) \nLe droit au logement dans la région méditerranéenne\nSoha Ben Slama\, AIH et Tribunal International des Expulsions (ITE)\, Coordinatrice\, Tunisie \nmercredi 28.06.2023 – 15:00 – 16:30 CEST (cliquez pour l’heure locale) \nDespejos Zero’\, droit au logement et démocratie au Brésil\nGetulio Vargas Jr\, Bartiria Lima da Costa\, Confederaçao Nacional Moradores (CONAM) et Campanha Despejos Zero\, Brésil \nSÉRIES SPÉCIALES \nMercredi 10.05.2023 et mercredi 24.05.2023 \nCréation d’un groupe de travail pour le droit au logement au sein du HRG \nCesare Ottolini\, Paolo De Stefani \nResponsable scientifique : Paolo de Stefani\, Université de Padoue. \nInformation : Série de séminaires sur le droit au logement. Luttes et conflits stratégiques sur quatre continents \nInfo \nFB Assemblée Mondiale des Habitants \nFB World Zero Expulsions – Cero Desalojos – Zéro Expulsions \nwww.habitants.org \nmedia.iai@habitants.org
URL:https://ripess.eu/fr/event/serie-de-seminaires-droit-au-logement-luttes-et-litiges-strategiques-sur-quatre-continents/
ATTACH;FMTTYPE=image/jpeg:https://ripess.eu/wp-content/uploads/sites/4/2023/04/housing-rights-events-agenda.jpg
END:VEVENT
BEGIN:VEVENT
DTSTART;VALUE=DATE:20230523
DTEND;VALUE=DATE:20230622
DTSTAMP:20260421T124555
CREATED:20230523T121928Z
LAST-MODIFIED:20230523T121928Z
UID:10000096-1684800000-1687391999@ripess.eu
SUMMARY:Journée mondiale de la localisation
DESCRIPTION:Un mois de célébrations locales dans le monde entier\, chaque année.\nLa Journée mondiale de la localisation\, le 21 juin\, célèbre le mouvement mondial de localisation\, non seulement le jour même\, mais pendant tout le mois de juin. En 2023\, pour la quatrième année consécutive\, des personnes du monde entier se réuniront pour explorer le pouvoir de la localisation et honorer les nombreuses initiatives\, anciennes et nouvelles\, qui favorisent des économies écologiques\, des communautés prospères et des systèmes alimentaires locaux sains. Restez à l’écoute pour les mises à jour 2023 et parcourez les événements passés ci-dessous. \nLa Journée mondiale de la localisation est une célébration annuelle du mouvement mondial de localisation. \nC’est plus qu’une simple journée : c’est une invitation à voir le monde d’une nouvelle manière. Prendre conscience du lieu en participant à des échanges économiques locaux à petite échelle. Créer un changement local dans le cadre d’un mouvement mondial pour des communautés et des économies plus saines.
URL:https://ripess.eu/fr/event/journee-mondiale-de-la-localisation/
LOCATION:WORLDWIDE
ATTACH;FMTTYPE=image/jpeg:https://ripess.eu/wp-content/uploads/sites/4/2023/05/World-Localization-Day-June-2023.jpg
END:VEVENT
BEGIN:VEVENT
DTSTART;VALUE=DATE:20230531
DTEND;VALUE=DATE:20230603
DTSTAMP:20260421T124555
CREATED:20230510T100447Z
LAST-MODIFIED:20230510T100951Z
UID:10000092-1685491200-1685750399@ripess.eu
SUMMARY:Innovations citoyennes\, solidarités et transformations sociétales\, Redéfinir l’émancipation face aux défis écologiques\, sociaux et démocratiques
DESCRIPTION:31 mai – 19h\n\nÉconomie solidaire\, gestion sociale et participation émancipatrice \nL’apport des ouvertures internationales : l’exemple du Brésil \nComment le dialogue international contribue à questionner les approches sociologiques et historiques nationales et comment ce même dialogue autorise l’introduction de nouveaux concepts comme celui de gestion sociale.  \n\n1er juin – 9h30\n\nEntre rapports de pouvoir et émancipations : \nrepenser la complexité du monde culturel associatif \nJournée organisée par Opale en partenariat avec l’IRIS – Institut de recherche interdisciplinaire sur les enjeux sociaux \nOuvrir un espace de réflexion et de circulation des savoirs qualitatifs sur les associations culturelles employeuses et sur la diversité des enjeux qui les traversent en mettant en résonance et en dialogue savoirs expérienciels et travaux de recherche. \n\n2 juin – 10h\n\nVers de nouveaux rapports entre science\, action et démocratie \nLa Fabrique de l’émancipation \nDébat à partir de diverses lectures de cet ouvrage qui plaide pour de nouveaux liens entre science et action dans un moment où\, par-delà les dangers\, la démocratie se réinvente déjà. \nINSCRIPTIONS 31 mai et 2 juin \nINSCRIPTIONS 1er juin \nPROGRAMME COMPLET 
URL:https://ripess.eu/fr/event/innovations-citoyennes-solidarites-et-transformations-societales-redefinir-lemancipation-face-aux-defis-ecologiques-sociaux-et-democratiques/
LOCATION:Cnam\, 292 Rue Saint-Martin\, Paris\, 75003\, France
END:VEVENT
BEGIN:VEVENT
DTSTART;VALUE=DATE:20230605
DTEND;VALUE=DATE:20230612
DTSTAMP:20260421T124555
CREATED:20230601T095635Z
LAST-MODIFIED:20230601T095635Z
UID:10000108-1685923200-1686527999@ripess.eu
SUMMARY:Inscrivez-vous aux événements organisés par ATES pendant la Semaine internationale du tourisme pour tou(te)s\, solidaire et durable
DESCRIPTION:A l’occasion de la Semaine Internationale du Tourisme pour Tous\, Durable et Solidaire (du 5 au 11 juin 2023)\, événement organisé annuellement par l’Organisation Internationale du Tourisme Social (OIT)\, l’Association pour le Tourisme Équitable et Solidaire (ATES) de France souhaite offrir un espace dans lequel les acteurs du tourisme équitable et associatif de différents pays peuvent échanger avec leurs pairs et partager leurs expériences\,  Défis et réussites. \n  Pour la première fois\, les 5 et 9 juin 2023\, ATES organisera deux tables rondes à distance ouvertes à tous\, qui permettront aux agents touristiques foires et communautaires hispanophones et francophones de confronter leurs points de vue. En outre\, les 6 et 7 juin\, ATES organisera deux webinaires\, en espagnol et en anglais\, pour aider à découvrir les principes et les fondamentaux du tourisme équitable\, ses applications et certaines pratiques inspirantes pour agir. \n05.06.2023 \nTable ronde en espagnol   \nComment créer une marque nationale de tourisme équitable et solidaire ? \nQuels sont les défis de la commercialisation et de la commercialisation de ce type d’offre touristique et comment les surmonter? \nQue pouvons-nous apprendre des initiatives des marques de tourisme équitable\, communautaire et solidaire qui sont menées en Amérique latine? \n06.06. 2023 \nWebinaire Fair Tourism I en espagnol \nExplorer de nouvelles voies\, un pas vers un tourisme équitable ! \nQu’est-ce que le tourisme équitable ? \nQuels sont ses principes et comment les mettre en pratique ? \nQuels exemples inspirants peuvent être reproduits et dans quelles conditions ? \n07.06.2023 \nWebinaire du tourisme équitable I en anglais \nExplorer de nouvelles voies\, un pas vers un tourisme équitable ! \nQu’est-ce que le tourisme équitable ? \nQuels sont ses principes et comment les mettre en pratique ? \nQuels exemples inspirants peuvent être reproduits et dans quelles conditions ? \n09.06.2023 \nTable ronde en français   \nComment accompagner et rassembler les non-professionnels autour du tourisme équitable ? \nComment ces personnes sont-elles organisées pour coopérer\, développer leurs compétences et promouvoir une offre touristique attrayante ? \nQue pouvons-nous apprendre des initiatives visant à structurer les réseaux de tourisme rural à travers le monde? \nhttps://www.helloasso.com/associations/ates-association-pour-le-tourisme-equitable-et-solidaire/evenements/mesa-redonda-como-crear-una-marca-nacional-de-turismo-justo-y-solidario \nhttps://www.helloasso.com/associations/ates-association-pour-le-tourisme-equitable-et-solidaire/evenements/explorando-nuevos-caminos-un-paso-hacia-el-turismo-justo
URL:https://ripess.eu/fr/event/inscrivez-vous-aux-evenements-organises-par-ates-pendant-la-semaine-internationale-du-tourisme-pour-toutes-solidaire-et-durable/
ATTACH;FMTTYPE=image/jpeg:https://ripess.eu/wp-content/uploads/sites/4/2023/06/tourisme_pour_tous_solidaire_durable.jpg
END:VEVENT
BEGIN:VEVENT
DTSTART;TZID=Europe/Paris:20230608T153000
DTEND;TZID=Europe/Paris:20230608T183000
DTSTAMP:20260421T124556
CREATED:20230524T150002Z
LAST-MODIFIED:20230524T150002Z
UID:10000099-1686238200-1686249000@ripess.eu
SUMMARY:Événement ISHF 2023 – Politiques du logement vues d’en bas : stratégies de coproduction locale pour la justice en matière de logement
DESCRIPTION:Comment la politique du logement est-elle façonnée par les acteurs locaux à l’intérieur et à l’extérieur des institutions publiques ? Comment ces pratiques répondent-elles à l’urgence du logement par des mesures à court et à long terme? Comment varient-ils à travers le monde? Quelles alliances les animent\, en particulier entre les gouvernements locaux et la société civile ? \nInformation et inscription\nAfin de répondre à ces questions et à d’autres\, nous vous invitons à vous joindre à l’activité « Politiques du logement d’en bas : stratégies de coproduction locale pour la justice en matière de logement »\, qui se tiendra dans le cadre du Festival international du logement social 2023\, qui se tiendra à Barcelone du 7 au 9 juin. L’événement aura lieu le jeudi 8 juin\, entre 15h30 et 18h20 à Comissions Obreres de Catalunya (CCOO) (voir carte ici). \nVeuillez vous inscrire ici en cliquant sur l’événement. Les participants doivent être inscrits au festival pour participer à l’activité. L’inscription est gratuite et peut se faire \n  ici\n jusqu’au 29 mai. L’événement comptera avec interprétation en anglais et en espagnol. \nPLUS D’INFOS \n  : https://www.right2city.org/events/ishf-2023-event-housing-policies-from-below-local-co-production-strategies-for-housing-justice/
URL:https://ripess.eu/fr/event/evenement-ishf-2023-politiques-du-logement-vues-den-bas-strategies-de-coproduction-locale-pour-la-justice-en-matiere-de-logement/
LOCATION:online
ATTACH;FMTTYPE=image/png:https://ripess.eu/wp-content/uploads/sites/4/2023/05/ISHF-Housing-from-below-EN-june23.png
END:VEVENT
BEGIN:VEVENT
DTSTART;VALUE=DATE:20230613
DTEND;VALUE=DATE:20230615
DTSTAMP:20260421T124556
CREATED:20230601T092245Z
LAST-MODIFIED:20230601T092941Z
UID:10000102-1686614400-1686787199@ripess.eu
SUMMARY:L'ESS AU CŒUR DES DYNAMIQUES ALIMENTAIRES TERRITORIALES
DESCRIPTION:La régie rurale (Vaillant)\, le réseau des PAT grand Est (Partaage)\, le PETR du Pays de Langres à travers son Projet Alimentaire Territorial \, La communauté de Communes Auberive Vingeanne Montseaugeonnais\, le RTES (réseau des territoires pour l’économie solidaire)\, les CRESS Grand Est et Bourgogne Franche Comté organisent les 13 et 14 juin prochain une rencontre autour des questions alimentation et territoires et de la précarité alimentaire ;\nnous vous remercions de noter cette date et de rediffuser autour de vous\n\nau programme :\nvisite des expériences alimentaires sur Dijon et en pays de Langres\, marché paysan à la régie rurale de Vaillant\, temps de forum et ateliers\, conférences
URL:https://ripess.eu/fr/event/less-au-coeur-des-dynamiques-alimentaires-territoriales/
LOCATION:Dijon (FR)
ATTACH;FMTTYPE=image/png:https://ripess.eu/wp-content/uploads/sites/4/2023/06/RTES_rencontres_alimentaires_juin23.png
END:VEVENT
BEGIN:VEVENT
DTSTART;TZID=Europe/Paris:20230613T153000
DTEND;TZID=Europe/Paris:20230613T180000
DTSTAMP:20260421T124556
CREATED:20230411T130716Z
LAST-MODIFIED:20230606T111338Z
UID:10000080-1686670200-1686679200@ripess.eu
SUMMARY:[Projet Devisus] Rencontre autour de l'utilité sociale et de l'impact social
DESCRIPTION:Impact et utilité sociale de l’économie sociale et solidaire (ESS) : enjeux et repères communs au cœur de l’évaluation\nPROGRAMME \nLa question de l’impact et de l’utilité social(e) (IUS) dans le secteur de l’ESS est un enjeu actuel partout en Europe. \nTenant compte de la diversité des outils et des approches d’évaluation\, l’ensemble des partenaires du projet DEVISUS partagent l’importance de construire des méthodes d’évaluation qui prennent en compte les spécificités de l’ESS et qui soient portées par les acteurs eux-mêmes\, d’où l’enjeu de formation qui en découle. \nAu terme de ce projet\, nous vous invitons à une rencontre pour vous présenter quelques repères communs et orientations collectives dans le cadre de l’évaluation de l’IUS. Il s’agit également d’échanger avec vous\, parties prenantes de l’écosystème de l’ESS\, pour nourrir nos réflexions futures. \nPublic : acteurs nationaux et européens de l’ESS\, administrations\, pouvoirs publics\, institutionnels\, etc. \nDate : mardi 13 juin 2023 (15h45-18h) + drink \nAdresse : Mundo-Madou\, Av. des Arts 7/8\, 1210 Bruxelles \nCoût : participation gratuite \nLE PROJET DEVISUS  \nA travers des temps d’échanges de pratiques\, de savoirs\, d’expériences\, de compétences et de ressources\, les partenaires du projet DEVISUS (Développement d’un Ecosystème de Valorisation de l’Impact Social et de l’Utilité Sociale) ont souhaité travailler sur la co-construction d’une vision partagée\, en mettant en commun leurs expériences et enseignements sur le sujet. \nIntéressé·e ? Notez dès à présent cette rencontre dans votre agenda ! PLUS D INFOS ICI .
URL:https://ripess.eu/fr/event/projet-devisus-rencontre-autour-de-lutilite-sociale-et-de-limpact-social/
LOCATION:Bruxelles\, Belgique
ATTACH;FMTTYPE=image/png:https://ripess.eu/wp-content/uploads/sites/4/2023/04/impact_utilite_sociale_ess_event_juin_2023.png
END:VEVENT
BEGIN:VEVENT
DTSTART;TZID=Europe/Paris:20230616T120000
DTEND;TZID=Europe/Paris:20230616T140000
DTSTAMP:20260421T124556
CREATED:20230614T104903Z
LAST-MODIFIED:20230614T110029Z
UID:10000109-1686916800-1686924000@ripess.eu
SUMMARY:SÉMINAIRE COMMUNS ET ESS – SÉANCE #3 : COMMUNS\, ESS ET ANTHROPOCÈNE
DESCRIPTION:La troisième séance du séminaire Communs et ESS de La Coop des Communs aura lieu le vendredi 16 juin de 12h à 14h en format hybride autour du thème : « Communs\, ESS et anthropocène »\, avec Justine Loizeau\, doctorante en sciences de gestion à l’université Paris Dauphine et Jean-François Draperi\, sociologue\, ancien rédacteur en chef de la RECMA et directeur du CESTES du CNAM.
URL:https://ripess.eu/fr/event/seminaire-communs-et-ess-seance-3-communs-ess-et-anthropocene/
LOCATION:online
ATTACH;FMTTYPE=image/jpeg:https://ripess.eu/wp-content/uploads/sites/4/2023/06/seminar-June_2023.jpg
END:VEVENT
BEGIN:VEVENT
DTSTART;VALUE=DATE:20230622
DTEND;VALUE=DATE:20230624
DTSTAMP:20260421T124556
CREATED:20230328T090144Z
LAST-MODIFIED:20230328T090223Z
UID:10000066-1687392000-1687564799@ripess.eu
SUMMARY:FORMATION GOUVERNANCES COLLECTIVES : notions de base\, outils\, postures
DESCRIPTION:Le Mouvement pour l’économie Solidaire vous propose une session de formation de 2 jours les 22 & 23 JUIN 2023 à LA HALLE TROPISME 121 rue Fontcouverte\, 34070 Montpellier sur les gouvernances collectives. \n\n\nVous participez à une organisation de l’économie sociale et solidaire (ESS) désireuse d’améliorer ses pratiques de gouvernance\, pour qu’elle soit plus partagée\, plus collective\, cette formation organisée en partenariat MES France et MES Occitanie\, vous en donne à la fois une vision globale et une approche pratique et concrète pour vous accompagner dans cette mutation.Nous y abordons à la fois les enjeux\, les valeurs qui encadrent ce type de gouvernance\, les principes\, les méthodes et les outils que ce type d’organisation nécessite pour mettre en acte la coopération et l’intelligence collective\, mais aussi les questions de posture individuelle et de culture collective que cette démarche induit. \nCette formation s’adresse aux dirigeant·es\, salarié·es\, bénévoles\, accompagnatrice·eurs de projets relevant de l’économie solidaire et de la transition écologique\, c’est-à-dire des acteur·ices qui :s’organisent pour améliorer et maintenir leur qualité de vie et de travailco-construisent des initiatives alternatives aux fonctionnements économiquesdominants (prédateurs et inconscients des besoins d’autrui)sont intéressé·es par les problématiques de gouvernance collective et partagéecomme levier de résilience des communautés humaines. \nObjectifs d’apprentissage :\nA l’issue de la formation\, le stagiaire sera en capacité de :1. REPÉRER les facteurs individuels et collectifs relatifs à la gouvernance collective en acquérant des bases théoriques et pratiques d’animation de collectif·s de gouvernance2. ACCOMPAGNER les personnes à PRENDRE SOIN d’elles mêmes et des dynamiques collectives pour favoriser la montée en confiance et des relations humaines authentiques dans le respect des besoins et des limites de chacun·e3. CONCEVOIR des modèles de gouvernances collectives instaurant des processus de régulation qui favorisent agilité décisionnelle et consolidation des moyens d’intervention en cohérence avec la finalité sociétale de l’organisation \nModalités d’apprentissage :\n=> Apports théoriques et méthodologiques=> Mises en situation avec retour réflexif=> Partages et échanges d’expériences=> Analyse critique\, études de cas \nModalité de la formation :\nNombre de stagiaires : 20 personnes maximumTarif et prise en charge : 1 000 € pour les 2 jours. Si vous n’avez pas de prise en charge au titre de la formation professionnelle\, contactez-nous directement. Nous souhaitons que les contraintes financières ne soient pas un obstacle \npour connaitre le programme\, les formateurs et les modalités de la formation merci de télécharger la plaquette d’information.
URL:https://ripess.eu/fr/event/formation-gouvernances-collectives-notions-de-base-outils-postures/
LOCATION:Halle tropisme\, Montpellier FR
ATTACH;FMTTYPE=image/jpeg:https://ripess.eu/wp-content/uploads/sites/4/2023/03/MES-FORMATION-HALLE-TROPISME-JUIN23.jpg
END:VEVENT
BEGIN:VEVENT
DTSTART;TZID=Europe/Paris:20230622T163000
DTEND;TZID=Europe/Paris:20230622T180000
DTSTAMP:20260421T124556
CREATED:20230601T094047Z
LAST-MODIFIED:20230601T094047Z
UID:10000104-1687451400-1687456800@ripess.eu
SUMMARY:La mobilité durable contre la pollution\, l’énergie et le gaspillage de temps
DESCRIPTION:Des villes moins polluées à taille humaine\, des services de déplacement flexibles\, des transports innovants\, intégrés territorialement et efficaces : c’est la mobilité durable et intelligente\, celle qui augmente la qualité de vie. \nMalheureusement\, l’organisation du système de transport en constante expansion et l’aménagement du territoire ne vont souvent pas de pair\, même dans le Trentin.\nDévelopper des projets de mobilité durable\, c’est donc travailler à la fois sur l’impact environnemental et sur la qualité de vie des personnes. \nLe Trentin est-il durable en termes de mobilité ? Comment connecter un espace comme le nôtre ? Comment adapter le concept de la ville de 15 minutes à notre province? Quelle direction devrait prendre l’avenir de la mobilité durable ? \nNous en parlons le jeudi 22 juin à 16h30 dans cette conférence en ligne avec: \nGiuseppe Grezzi | Conseiller à la mobilité de Valence\nJacopo Nespolo | Physicien et militant cycliste\nElisa Nicoli | Éco-narrateur\nModérateur : Andreas Fernandez\, sociologue de la communication et écologiste
URL:https://ripess.eu/fr/event/la-mobilite-durable-contre-la-pollution-lenergie-et-le-gaspillage-de-temps/
LOCATION:online
ATTACH;FMTTYPE=image/png:https://ripess.eu/wp-content/uploads/sites/4/2023/06/Come-ci-muoviamo.png
END:VEVENT
END:VCALENDAR