BEGIN:VCALENDAR
VERSION:2.0
PRODID:-//RIPESS Europe - ECPv6.15.20//NONSGML v1.0//EN
CALSCALE:GREGORIAN
METHOD:PUBLISH
X-WR-CALNAME:RIPESS Europe
X-ORIGINAL-URL:https://ripess.eu/es/
X-WR-CALDESC:Eventos para RIPESS Europe
REFRESH-INTERVAL;VALUE=DURATION:PT1H
X-Robots-Tag:noindex
X-PUBLISHED-TTL:PT1H
BEGIN:VTIMEZONE
TZID:Europe/Paris
BEGIN:DAYLIGHT
TZOFFSETFROM:+0100
TZOFFSETTO:+0200
TZNAME:CEST
DTSTART:20220327T010000
END:DAYLIGHT
BEGIN:STANDARD
TZOFFSETFROM:+0200
TZOFFSETTO:+0100
TZNAME:CET
DTSTART:20221030T010000
END:STANDARD
BEGIN:DAYLIGHT
TZOFFSETFROM:+0100
TZOFFSETTO:+0200
TZNAME:CEST
DTSTART:20230326T010000
END:DAYLIGHT
BEGIN:STANDARD
TZOFFSETFROM:+0200
TZOFFSETTO:+0100
TZNAME:CET
DTSTART:20231029T010000
END:STANDARD
BEGIN:DAYLIGHT
TZOFFSETFROM:+0100
TZOFFSETTO:+0200
TZNAME:CEST
DTSTART:20240331T010000
END:DAYLIGHT
BEGIN:STANDARD
TZOFFSETFROM:+0200
TZOFFSETTO:+0100
TZNAME:CET
DTSTART:20241027T010000
END:STANDARD
END:VTIMEZONE
BEGIN:VEVENT
DTSTART;VALUE=DATE:20230302
DTEND;VALUE=DATE:20230422
DTSTAMP:20260423T082203
CREATED:20230302T113550Z
LAST-MODIFIED:20230302T113550Z
UID:10000047-1677715200-1682121599@ripess.eu
SUMMARY:Simposio Internacional de Comercio Justo 2023: inscripción abierta hasta el 21 de abril.
DESCRIPTION:El Simposio Internacional de Comercio Justo es la principal reunión mundial para académicos\, profesionales y formuladores de políticas que trabajan en Comercio Justo. \nEl próximo Simposio Internacional de Comercio Justo se celebrará del 19 al 21 de junio de 2023 en la Universidad de Leeds en el Reino Unido. Leeds es una ciudad vibrante en el norte de Inglaterra que tiene excelentes conexiones de transporte con el resto del Reino Unido. \nTanto la Universidad de Leeds como la ciudad de Leeds tienen fuertes vínculos con el Comercio Justo: somos una ciudad y una universidad de Comercio Justo\, y Yorkshire fue el primer condado de Comercio Justo. Académicos del Instituto de Investigación de Sostenibilidad y del Servicio de Sostenibilidad de la Universidad han trabajado junto con el Grupo Directivo del Simposio Internacional de Comercio Justo y activistas locales para desarrollar el programa para FTIS. \nEn el evento FTIS de Leeds habrá talleres y paneles que tendrán lugar en persona\, complementados con algunas sesiones en línea e híbridas para permitir la participación de personas tanto a nivel local como internacional. Nos aseguraremos de que se faciliten tanto las discusiones en persona como en línea para que todos tengan la oportunidad de participar. Estamos especialmente interesados en crear espacios para que los activistas y profesionales locales interactúen. \nHabrá algunos paneles y sesiones totalmente en línea\, con oportunidades para que los participantes discutan documentos y pósteres y\, lo que es más importante\, un espacio para interactuar entre sí a través de la plataforma de la conferencia. \nLos talleres serán presenciales\, con contribuciones de académicos\, activistas y estudiantes. \nLas presentaciones plenarias serán híbridas\, accesibles tanto para una audiencia en línea como en persona\, y serán grabadas. \nHemos acordado con los editores del Journal of Fair Trade producir un número especial de la revista basado en los documentos del Simposio. Habrá una sesión especial sobre esto durante el evento.
URL:https://ripess.eu/es/event/simposio-internacional-de-comercio-justo-2023-inscripcion-abierta-hasta-el-21-de-abril/
ATTACH;FMTTYPE=image/png:https://ripess.eu/wp-content/uploads/sites/4/2023/03/fairtrade_international_symposium2023.png
END:VEVENT
BEGIN:VEVENT
DTSTART;VALUE=DATE:20230302
DTEND;VALUE=DATE:20230601
DTSTAMP:20260423T082204
CREATED:20230302T112806Z
LAST-MODIFIED:20230302T112827Z
UID:10000044-1677715200-1685577599@ripess.eu
SUMMARY:3rd International Conference - Social and Solidarity Economy and the Commons - Decolonizing the Solidarity Economy and Commons:   Enacting the “Pluriverse”
DESCRIPTION:3rd International Conference \nSocial and Solidarity Economy and the Commons \nDecolonizing the Solidarity Economy and Commons: \nEnacting the “Pluriverse” \nVenue: Instituto Universitário de Lisboa (ISCTE-IUL)\, Lisbon\, Portugal \nDate: 8th-10th November 2023 (Presential) \nOrganisers: Centre for International Studies (CEI-IUL) – Instituto Universitário de Lisboa (ISCTE-IUL) (Portugal); Centre for Social Studies (CES) – University of Coimbra (Portugal); ITES/UFAL -Incubator of Solidarity Economy at the Federal University of Alagoas (Brazil); Institute for Social Justice\, York St John University (UK); Institute for Ecological Economics – Vienna University of Economics and Business (Austria) \n  \nCALL FOR CONTRIBUTIONS \nThe main theme for the 2023 edition of the international conference “Social and Solidarity Economy and the Commons” is the emergence of a “pluriverse” in the fields of solidarity economy and the commons. This results from the aggregation of diverse epistemologies\, narratives\, and strategies for social transformation that criticise and deconstruct the downsides of modernity as a social project. For Mignolo and Escobar (2010)\, these include a “disembeddedness”\, resulting from a “marginalization of place (the here and now of social action) in the definition of social life” (p. 36). It also includes a “domination and disenchantment that came about with secularization and the predominance of instrumental reason to the normalization of life and the disciplining of populations” to “the extreme economization and technification of the world” (p. 36-7). \nWe invite researchers and practitioners to submit proposals for contributions to the conference. We aim to promote interdisciplinary and transdisciplinary perspectives at both theoretical\, conceptual and methodological levels. Submissions might be based on formal research or on concrete activist\, economic or public policy initiatives. \nThe conference is structured around six thematic fields: \n\nCriticisms of modernity\, post-material worldviews and their contribution to social movements and initiatives promoting solidarity economy and the commons;\nIndigenous epistemologies and popular knowledges (epistemologies of traditional peoples and communities);\nOngoing tensions between transformation and cooptation in solidarity economy and commons-based initiatives and movements (including cultish or other forms of authoritarian dynamics based on charisma\, spiritual/ideological creed or the spread of disinformation\, including those of ethnonationalist\, backlash social movements\, reactionary and anti-democratic movements);\nContributions of solidarity economy\, commons and community-led initiatives to emancipatory movements\, deepening democracy as well as civil society-led strategies of “soft power” in international\, regional and local relations;\nContributions of knowledge\, technologies and organisational forms\, developed within solidarity economy\, commons and community-led initiatives\, to biopolitical forms of social control (i.e. “technologies of the self”)\, as well as state-led strategies of “soft power” in international\, regional and local relations.\nStructural Inequalities and the challenges faced by minorities and other disadvantaged groups in the pursuit of environmental and social justice through solidarity economy and commons-based initiatives and movements. These include inequalities and challenges enhanced by the “green gentrification” that is often unintentionally caused by the presence of such initiatives\, as well as state-led urban and rural planning strategies for sustainability based on commons and commoning.\n\nAttention: For further information on each thematic field\, please consult the annexed Conference Proposal. \nSession on Research and Methods Design\nWe strongly encourage the submission of paper proposals by Ph.D. students on the methodological and ethical dimensions of research within these six fields of inquiry\, with the purpose of organising a workshop on this topic for early career scholars\, which will take place during the conference. \nWe will post regular updates about the organisation of this conference on the event’s webpage (https://ssecommons.cei.iscte-iul.pt )\, as well as send them by e-mail and through the social media accounts of CEI-IUL (Facebook and Twitter). Any questions regarding organisation of the conference or participation can be sent to  ssecommons.cei@iscte-iul.pt. \nProposal Submission Guidelines \nWe welcome the submission of the following type of proposals: \n\npaper abstracts (research papers or experience reports by practitioners or activists);\nbook presentation proposals on topics relevant to the five thematic fields of the conference.\nsession proposals containing the name of presenters\, as well as the title and complete abstract of each presentation;\n\nAll submitted proposals must have a maximum length of 800 words (including any references) and indicate which thematic field/s of the conference they address\, along with five keywords. They can be submitted in English\, French\, Portuguese or Spanish. However\, the language of presentation shall be English. They should include: \nIn the case of an academic paper or research proposals by Ph.D. students: \n\na) Title;\nb) Thematic field (one of the five proposed by the conference);\nc) Extended abstract referring to the theoretical and methodological approach\, the main argument\, and a brief summary of conclusions/implications for research\, activism or policy-making.\nd) Main references\n\nIn the case of an experience report by practitioners or activists: \n\na) Title;\nb) Thematic field (one of the five proposed by the conference);\nc) Abstract containing: a short description of the experience; a brief context analysis; innovation in political\, environmental or societal terms; main challenges; future trends.\nd) Main references\n\nIn the case of a book presentation proposal: \n\na) Title;\nb) Thematic field (one of the five proposed by the conference);\nc) Extended abstract referring to the theoretical and methodological approach\, the main argument\, and a brief summary of conclusions/implications for research\, activism or policy-making.\n\nSession proposals should include: \n\na) Title of the panel;\nb) Thematic field (one of the five proposed by the conference)\, along with five keywords;\nc) A brief (up to 300 words) statement summarising the rationale for the panel.\nd) Individual abstracts for each presentation (maximum 800 words each)\, referring to the theoretical and methodological approach\, the main argument\, a brief summary of conclusions/implications for research\, activism or policy-making and main references.\n\nIn your proposal\, please indicate whether you would like to submit a full paper for online publication\, with peer-review and in open-source format\, in a website that the conference organisers will create for that purpose. The papers will be published during the first semester of 2024. \nPlease submit proposals by email to  ssecommons.cei@iscte-iul.pt .  \nImportant dates  \nDeadline for submission of proposals – May 31st 2023 \nNotification of contributors – June 30th \nDeadline for registration (conference presenters) – October 6th \nPublication of final program – October 15th \nDeadline for registration (non-presenters) – October 25th \nBeginning of the conference – November 8th \nSubmission of full paper for peer review and publication: December 15th \nConference registration \nSite: https://ssecommons.cei.iscte-iul.pt/  \nProfessors/lecturers\, researchers and other professionals – € 175\, 00 \nStudents (Proof of enrolment in a higher education program required) – € 75\, 00 \nRegistration is FREE for students of ISCTE-IUL\, CES-University of Coimbra\, UFAL and York St John University. \nSteering Committee: \nAna Margarida Esteves (CEI-IUL\, ISCTE-IUL) \nLeonardo Leal (CEI-IUL; Universidade Federal de Alagoas– UFAL) \nLuciane Lucas dos Santos (CES U Coimbra) \nTom Henfrey (Schumacher Institute\, UK) \nMaria Fernandes-Jesus (York St John University\, UK) \nRoman Hausmann (Institute for Ecological Economics – Vienna University of Economics and Business\, Austria)
URL:https://ripess.eu/es/event/3rd-international-conference-social-and-solidarity-economy-and-the-commons-decolonizing-the-solidarity-economy-and-commons-enacting-the-pluriverse/
LOCATION:Instituto Universitário de Lisboa (ISCTE-IUL)\, Lisbon\, Portugal\, Portugal
ATTACH;FMTTYPE=image/png:https://ripess.eu/wp-content/uploads/sites/4/2023/03/SSE_and_the_commons_conference.png
END:VEVENT
BEGIN:VEVENT
DTSTART;VALUE=DATE:20230311
DTEND;VALUE=DATE:20230524
DTSTAMP:20260423T082204
CREATED:20230216T110914Z
LAST-MODIFIED:20230216T110914Z
UID:10000014-1678492800-1684886399@ripess.eu
SUMMARY:Inscripciones abiertas para #GsefDakar2023
DESCRIPTION:Esta página de registro está dedicada a los participantes que deseen asistir al Dakar GSEF2023. \nComplete la preinscripción y recibirá más detalles sobre su participación.\n¡Esperamos que se una a nosotros y comparta este hermoso evento juntos! \nPara los ponentes\, los miembros del GSEF y los responsables de la organización del evento (comité científico\, …)\, las inscripciones se abrirán la próxima semana\, recibirán un correo electrónico con un enlace para inscribirse y las condiciones de participación que le conciernen.
URL:https://ripess.eu/es/event/inscripciones-abiertas-para-gsefdakar2023/
LOCATION:online
ATTACH;FMTTYPE=image/png:https://ripess.eu/wp-content/uploads/sites/4/2023/02/gsef_2023_couverture.png
END:VEVENT
BEGIN:VEVENT
DTSTART;VALUE=DATE:20230404
DTEND;VALUE=DATE:20230617
DTSTAMP:20260423T082204
CREATED:20230404T154926Z
LAST-MODIFIED:20230404T154926Z
UID:10000074-1680566400-1686959999@ripess.eu
SUMMARY:Call for papers: Simposio Internacional de Comercio Justo y Desarrollo Sostenible
DESCRIPTION:Simposio Internacional FTSD 2023\n          \n\nEl simposio internacional sobre Comercio Justo y Desarrollo Sostenible (FTSD) es un evento científico que reúne regularmente a investigadores y profesionales interesados y que trabajan en diferentes aspectos del comercio justo y el desarrollo sostenible. \nProporciona un foro para el intercambio de prácticas\, herramientas\, modelos y experiencias para avanzar en la investigación y abrir nuevas perspectivas. \nPara su 3ª edición\, el Simposio FTSD 2023 tendrá lugar en la Escuela Superior de Tecnología de la Universidad Ibn Zohr – Agadir – Marruecos \n\n              Temas del Simposio\n            \nTema 1 : Valorización de los territorios y protección del medio ambiente\nTema 2 : RSE y gobernanza\nTema 3 : Resiliencia e innovación\nTema 4 : Economía social y solidaria\nTema 5 : Marketing y comercialización\nTema 6 : Gestión y estrategia de las Organizaciones de Comercio Justo (OCE)\nTema 7 : Ética\, territorios y normalización sostenible\n\nTema 8: Emprendimiento y finanzas sostenibles
URL:https://ripess.eu/es/event/call-for-papers-simposio-internacional-de-comercio-justo-y-desarrollo-sostenible/
LOCATION:Agadir\, MOROCCO
ATTACH;FMTTYPE=image/jpeg:https://ripess.eu/wp-content/uploads/sites/4/2023/04/FTSD-INTERNATIONAL-SYMPOSIUM-2023.jpg
END:VEVENT
BEGIN:VEVENT
DTSTART;VALUE=DATE:20230414
DTEND;VALUE=DATE:20230416
DTSTAMP:20260423T082204
CREATED:20230315T111249Z
LAST-MODIFIED:20230315T111249Z
UID:10000062-1681430400-1681603199@ripess.eu
SUMMARY:IX Otra Economía Está en Marcha
DESCRIPTION:El 14 y 15 de abril en Madrid volverán las jornadas de Otra Economía Está en Marcha\, un espacio de encuentro\, diálogo y debate que\, desde un enfoque crítico\, apuesta por poner la economía al servicio de la sociedad y del planeta. \nSe realizan en colaboración con la UNED de Tudela y son gratuitas. Además el estudiantado universitario que asista podrá obtener 1 crédito ECTS y solicitar becas para alojamiento y desplazamiento si son estudiantes de fuera de Madrid. \nEste año trataremos de imaginar colectivamente horizontes postcapitalistas en busca de alternativas para construir un mundo más habitable. \nEn la situación actual de policrisis cada vez más interrelacionadas y evidentes (hasta el Foro de Davos advierte de ella en su informe del 2023)\, se torna más necesario que nunca señalar el elefante en la habitación que es el insostenible sistema económico hegemónico y construir colectivamente futuros postcapitalistas que desenmascaren el realismo capitalista y muestren que sí existe alternativa. Que se pueden imaginar otros modos de vivir y hacer economía en los que la sostenibilidad de la vida sea la base y estén integradas las nociones de interdependencia y ecodepencencia. \nDurante esta IX edición de Otra Economía Está en Marcha reflexionaremos junto con Luis Aranguren sobre qué valores son necesarios para un cambio de paradigma real y conversaremos sobre cómo construir imaginarios y deseidades utópicas con Elisabet Roselló Román de Postfuturear y José Luis Fernández Casadevante\, “Kois”\, de la cooperativa Garúa. Abordaremos un conjunto de propuestas teóricas sobre las que ya se están avanzando para poder progresar en el diseño de estos horizontes utópicos (decrecimiento\, economía participativa\, ecosocialismo y cibercomunismo) y para ello contaremos con Eva Sampere\, Coordinadora del Área Federal de Medio Ambiente de Izquierda Unida; Jon de las Eras\, Universidad del País Vasco/Euskal Herriko Unibertsitatea; Martín Lallana\, militante del Área de Ecosocialismo de Anticapitalistas e investigador de la Universidad de Zaragoza; y Rodolfo Monico\, perteneciente al colectivo Cibcom. Las jornadas finalizarán con el taller Nuestras paradojas a examen: prácticas y desafíos cotidianos de las economías transformadoras\, llevado a cabo por una parte del grupo del proyecto de investigación ECOEMBEDEDDNESS. \nPara más información sobre los horarios\, procesos de inscripción o becas para el estudiantado universitario\, puedes visitar la página del IX Otra Economía Está en Marcha.
URL:https://ripess.eu/es/event/ix-otra-economia-esta-en-marcha/
LOCATION:Madrid\, Spain
ATTACH;FMTTYPE=image/jpeg:https://ripess.eu/wp-content/uploads/sites/4/2023/03/otra_economia_esta_en_marcha_14y15_abril_2023.jpg
END:VEVENT
BEGIN:VEVENT
DTSTART;TZID=Europe/Paris:20230414T140000
DTEND;TZID=Europe/Paris:20230414T170000
DTSTAMP:20260423T082204
CREATED:20230328T083137Z
LAST-MODIFIED:20230328T083137Z
UID:10000065-1681480800-1681491600@ripess.eu
SUMMARY:Organizaciones de la sociedad civil y democracia en Europa
DESCRIPTION:El Instituto Francés para las Organizaciones de la Sociedad Civil tiene el honor de dar la bienvenida a Oleksandra Matviichuk\, Presidenta del Centro para las Libertades Civiles de Ucrania\, Premio Nobel de la Paz 2022\, como oradora principal de este seminario web.\n                    \n\n\n\n \n\n\nEn 2022\, el Instituto Francés de Organizaciones de la Sociedad Civil lanzó\, en asociación con la Fundación Maecenata\, el Instituto de Investigación Social y el Mouvement associatif\, un grupo de trabajo sobre organizaciones de la sociedad civil en Europa. Este grupo de trabajo reunió a 40 investigadores y profesionales con experiencia mixta de 16 países europeos para arrojar luz sobre las OSC en Europa\, sobre su contribución a la sociedad y la democracia\, y sobre sus necesidades. \nEste grupo de trabajo se encargó de detectar las necesidades de conocimiento de las OSC europeas\, dibujar un estado del arte y emitir recomendaciones para una agenda de investigación europea sobre las OSC. \n¡Estamos encantados de presentar los resultados de este grupo de trabajo y pensar en el avance de knwoledge sobre las OSC durante un seminario web que se llevará a cabo el 14 de abril!
URL:https://ripess.eu/es/event/organizaciones-de-la-sociedad-civil-y-democracia-en-europa/
LOCATION:online
ATTACH;FMTTYPE=image/png:https://ripess.eu/wp-content/uploads/sites/4/2023/03/CSOs-and-democracy-in-Europe-EN.png
END:VEVENT
END:VCALENDAR