BEGIN:VCALENDAR
VERSION:2.0
PRODID:-//RIPESS Europe - ECPv6.15.20//NONSGML v1.0//EN
CALSCALE:GREGORIAN
METHOD:PUBLISH
X-ORIGINAL-URL:https://ripess.eu/en/
X-WR-CALDESC:Events for RIPESS Europe
REFRESH-INTERVAL;VALUE=DURATION:PT1H
X-Robots-Tag:noindex
X-PUBLISHED-TTL:PT1H
BEGIN:VTIMEZONE
TZID:Europe/Paris
BEGIN:DAYLIGHT
TZOFFSETFROM:+0100
TZOFFSETTO:+0200
TZNAME:CEST
DTSTART:20230326T010000
END:DAYLIGHT
BEGIN:STANDARD
TZOFFSETFROM:+0200
TZOFFSETTO:+0100
TZNAME:CET
DTSTART:20231029T010000
END:STANDARD
BEGIN:DAYLIGHT
TZOFFSETFROM:+0100
TZOFFSETTO:+0200
TZNAME:CEST
DTSTART:20240331T010000
END:DAYLIGHT
BEGIN:STANDARD
TZOFFSETFROM:+0200
TZOFFSETTO:+0100
TZNAME:CET
DTSTART:20241027T010000
END:STANDARD
BEGIN:DAYLIGHT
TZOFFSETFROM:+0100
TZOFFSETTO:+0200
TZNAME:CEST
DTSTART:20250330T010000
END:DAYLIGHT
BEGIN:STANDARD
TZOFFSETFROM:+0200
TZOFFSETTO:+0100
TZNAME:CET
DTSTART:20251026T010000
END:STANDARD
END:VTIMEZONE
BEGIN:VEVENT
DTSTART;VALUE=DATE:20240215
DTEND;VALUE=DATE:20240220
DTSTAMP:20260420T005731
CREATED:20231016T084534Z
LAST-MODIFIED:20231016T131753Z
UID:10000147-1707955200-1708387199@ripess.eu
SUMMARY:World Social Forum 2024
DESCRIPTION:We\, the people of the planet\, are currently facing an unprecedented environmental crisis coupled with rising inequality\, widespread food insecurities\, majoritarian violence\, after effects of the last pandemic and the threat of a future one\, and escalating tensions between major powers. In fact\, humanity is on the brink of multi-faceted calamities leading to the destruction of its own survival. Given the threat is real and urgent\, the ideals of the new world order that rests upon sustainability\, dignity\, co- existence\, equality\, and equity must be enacted and actualized. With the pledge of ‘Another world is possible’ the World Social Forum (WSF) emerges as a beacon of hope\, more essential than ever before. Despite the adversities\, we believe that change for a just world is possible. The World Social Forum (WSF) will discuss the means of changes in Kathmandu\, Nepal in February 2024.
URL:https://ripess.eu/en/event/world-social-forum-2024/
LOCATION:Katmandu\, Nepal
ATTACH;FMTTYPE=image/jpeg:https://ripess.eu/wp-content/uploads/sites/4/2023/10/World-social-forum-2024.jpg
END:VEVENT
BEGIN:VEVENT
DTSTART;VALUE=DATE:20240222
DTEND;VALUE=DATE:20240223
DTSTAMP:20260420T005731
CREATED:20240207T084107Z
LAST-MODIFIED:20240207T090141Z
UID:10000168-1708560000-1708646399@ripess.eu
SUMMARY:Let’s Celebrate CSA Day! Call for Stories
DESCRIPTION:In the midst of global challenges and uncertainties\, CSAs and LSPAs have stood resilient\, cultivating not only crops but also hope for a better tomorrow. \nWhile we approach #CSADay 2024\, we invite you to share your experience by telling us about your stories\, journeys\, and triumphs! \n\nFormat: Written stories\, or short videos.\n500 words for written submissions; 5-7 minutes for videos.\nSubmissions can be in any language\, with an English translation if possible.\nDeadline: 15/02/204
URL:https://ripess.eu/en/event/lets-celebrate-csa-day-call-for-stories/
ATTACH;FMTTYPE=image/png:https://ripess.eu/wp-content/uploads/sites/4/2024/02/URGENCI-CSA-DAY-EN.png
END:VEVENT
END:VCALENDAR